BEGIN:VCALENDAR
VERSION:2.0
PRODID:Events Booking
BEGIN:VEVENT
UID:69e739f4ee0b7
SUMMARY:Young at Heart Exercise Class - organised by Lorna Brooks
DESCRIPTION:
LOCATION:School Lane\, Wychavon\, WR10 3AU England\, United Kingdom
DTSTART:20250404T100000Z
DTEND:20250404T110000Z
DTSTAMP:20250120T123547Z
ORGANIZER;CN=Administrator of Eckington.info:MAILTO:website@eckington.info
GEO:52.070582;-2.111391
X-APPLE-STRUCTURED-LOCATION;VALUE=URI;X-ADDRESS=School Lane\, Wychavon\, WR
 10 3AU England\, United Kingdom;X-APPLE-RADIUS=72;X-TITLE=Eckington Villag
 e Hall:52.070582;-2.111391
END:VEVENT
END:VCALENDAR